BEGIN:VCALENDAR
VERSION:2.0
PRODID:-//Tukios.com/
BEGIN:VEVENT
UID:e4d678ae-a070-41ef-9dad-34ab40c011de@www.handleyfh.com
DTSTAMP:20260422T171118Z
DTSTART:20260423
SUMMARY:Burial
DESCRIPTION:
URL:https://www.handleyfh.com/obituaries/susan-connolly
LOCATION: Handley Circle  Madison WV 25130
GEO:38.04887;-81.8313089
END:VEVENT
END:VCALENDAR