BEGIN:VCALENDAR
VERSION:2.0
PRODID:-//Tukios.com/
BEGIN:VEVENT
UID:49860e14-3386-4918-843e-b6523de59d4b@www.handleyfh.com
DTSTAMP:20260422T171523Z
DTSTART:20260423T180000Z
DTEND:20260423T190000Z
SUMMARY:Funeral Service
DESCRIPTION:
URL:https://www.handleyfh.com/obituaries/susan-connolly
LOCATION: 439 Phipps Ave  Danville WV 25053
GEO:38.0802704;-81.8352237
END:VEVENT
END:VCALENDAR