BEGIN:VCALENDAR
VERSION:2.0
PRODID:-//Tukios.com/
BEGIN:VEVENT
UID:5a232814-0ff3-46ca-bfac-6f8dc94fe3f7@www.handleyfh.com
DTSTAMP:20260422T171228Z
DTSTART:20260423T170000Z
DTEND:20260423T180000Z
SUMMARY:Visitation
DESCRIPTION:
URL:https://www.handleyfh.com/obituaries/susan-connolly
LOCATION: 439 Phipps Ave  Danville WV 25053
GEO:38.0802704;-81.8352237
END:VEVENT
END:VCALENDAR