BEGIN:VCALENDAR
VERSION:2.0
PRODID:-//Tukios.com/
BEGIN:VEVENT
UID:50c3bada-cd2c-47f8-bfce-b6d930e3aa8e@www.handleyfh.com
DTSTAMP:20260425T213935Z
DTSTART:20260429T180000Z
DTEND:20260429T190000Z
SUMMARY:Funeral Service
DESCRIPTION:
URL:https://www.handleyfh.com/obituaries/kenneth-ball
LOCATION: 439 Phipps Ave  Danville WV 25053
GEO:38.0802704;-81.8352237
END:VEVENT
END:VCALENDAR