BEGIN:VCALENDAR
VERSION:2.0
PRODID:-//Tukios.com/
BEGIN:VEVENT
UID:fc4af8c7-b03f-4790-b9b2-40af91da61d1@www.handleyfh.com
DTSTAMP:20260425T213941Z
DTSTART:20260429
SUMMARY:Burial
DESCRIPTION:
URL:https://www.handleyfh.com/obituaries/kenneth-ball
LOCATION: 321 Jessie Ln  Turtle Creek WV 25203
GEO:38.0298063;-81.8715151
END:VEVENT
END:VCALENDAR