BEGIN:VCALENDAR
VERSION:2.0
PRODID:-//Tukios.com/
BEGIN:VEVENT
UID:d63ffccf-ba0a-4ba6-b961-03331e9dbe7f@www.handleyfh.com
DTSTAMP:20260425T213608Z
DTSTART:20260429T170000Z
DTEND:20260429T180000Z
SUMMARY:Visitation
DESCRIPTION:
URL:https://www.handleyfh.com/obituaries/kenneth-ball
LOCATION: 439 Phipps Ave  Danville WV 25053
GEO:38.0802704;-81.8352237
END:VEVENT
END:VCALENDAR